BEGIN:VCALENDAR
VERSION:2.0
PRODID:-//The Lakes Montessori - ECPv6.15.20//NONSGML v1.0//EN
CALSCALE:GREGORIAN
METHOD:PUBLISH
X-ORIGINAL-URL:https://thelakesmontessori.com
X-WR-CALDESC:Events for The Lakes Montessori
REFRESH-INTERVAL;VALUE=DURATION:PT1H
X-Robots-Tag:noindex
X-PUBLISHED-TTL:PT1H
BEGIN:VTIMEZONE
TZID:America/New_York
BEGIN:DAYLIGHT
TZOFFSETFROM:-0500
TZOFFSETTO:-0400
TZNAME:EDT
DTSTART:20250309T070000
END:DAYLIGHT
BEGIN:STANDARD
TZOFFSETFROM:-0400
TZOFFSETTO:-0500
TZNAME:EST
DTSTART:20251102T060000
END:STANDARD
BEGIN:DAYLIGHT
TZOFFSETFROM:-0500
TZOFFSETTO:-0400
TZNAME:EDT
DTSTART:20260308T070000
END:DAYLIGHT
BEGIN:STANDARD
TZOFFSETFROM:-0400
TZOFFSETTO:-0500
TZNAME:EST
DTSTART:20261101T060000
END:STANDARD
BEGIN:DAYLIGHT
TZOFFSETFROM:-0500
TZOFFSETTO:-0400
TZNAME:EDT
DTSTART:20270314T070000
END:DAYLIGHT
BEGIN:STANDARD
TZOFFSETFROM:-0400
TZOFFSETTO:-0500
TZNAME:EST
DTSTART:20271107T060000
END:STANDARD
END:VTIMEZONE
BEGIN:VEVENT
DTSTART;TZID=America/New_York:20260126T080000
DTEND;TZID=America/New_York:20260126T170000
DTSTAMP:20260424T032853
CREATED:20250830T003227Z
LAST-MODIFIED:20260114T174012Z
UID:1413-1769414400-1769446800@thelakesmontessori.com
SUMMARY:NO SCHOOL event
DESCRIPTION:Testing event for calendar page.
URL:https://thelakesmontessori.com/event/test-event-2/
CATEGORIES:No School
END:VEVENT
BEGIN:VEVENT
DTSTART;TZID=America/New_York:20260127T080000
DTEND;TZID=America/New_York:20260127T170000
DTSTAMP:20260424T032853
CREATED:20250726T181844Z
LAST-MODIFIED:20260114T173959Z
UID:1603-1769500800-1769533200@thelakesmontessori.com
SUMMARY:STUDENT event
DESCRIPTION:
URL:https://thelakesmontessori.com/event/test-events-student-event/
CATEGORIES:Student Event
END:VEVENT
BEGIN:VEVENT
DTSTART;TZID=America/New_York:20260130T120000
DTEND;TZID=America/New_York:20260130T143000
DTSTAMP:20260424T032853
CREATED:20250717T181828Z
LAST-MODIFIED:20260114T173949Z
UID:1601-1769774400-1769783400@thelakesmontessori.com
SUMMARY:PARENT event
DESCRIPTION:
URL:https://thelakesmontessori.com/event/test-event-parent-event/
CATEGORIES:Parent Events
END:VEVENT
BEGIN:VEVENT
DTSTART;TZID=America/New_York:20260131T080000
DTEND;TZID=America/New_York:20260131T170000
DTSTAMP:20260424T032853
CREATED:20250622T184215Z
LAST-MODIFIED:20260114T173935Z
UID:1612-1769846400-1769878800@thelakesmontessori.com
SUMMARY:GENERAL Test
DESCRIPTION:
URL:https://thelakesmontessori.com/event/new-event/
CATEGORIES:General
END:VEVENT
END:VCALENDAR